BEGIN:VCALENDAR
VERSION:2.0
PRODID:-//NeXus Avicultura - ECPv6.15.20//NONSGML v1.0//EN
CALSCALE:GREGORIAN
METHOD:PUBLISH
X-ORIGINAL-URL:https://nexusavicultura.com
X-WR-CALDESC:Eventos para NeXus Avicultura
REFRESH-INTERVAL;VALUE=DURATION:PT1H
X-Robots-Tag:noindex
X-PUBLISHED-TTL:PT1H
BEGIN:VTIMEZONE
TZID:Europe/Madrid
BEGIN:DAYLIGHT
TZOFFSETFROM:+0100
TZOFFSETTO:+0200
TZNAME:CEST
DTSTART:20260329T010000
END:DAYLIGHT
BEGIN:STANDARD
TZOFFSETFROM:+0200
TZOFFSETTO:+0100
TZNAME:CET
DTSTART:20261025T010000
END:STANDARD
BEGIN:DAYLIGHT
TZOFFSETFROM:+0100
TZOFFSETTO:+0200
TZNAME:CEST
DTSTART:20270328T010000
END:DAYLIGHT
BEGIN:STANDARD
TZOFFSETFROM:+0200
TZOFFSETTO:+0100
TZNAME:CET
DTSTART:20271031T010000
END:STANDARD
BEGIN:DAYLIGHT
TZOFFSETFROM:+0100
TZOFFSETTO:+0200
TZNAME:CEST
DTSTART:20280326T010000
END:DAYLIGHT
BEGIN:STANDARD
TZOFFSETFROM:+0200
TZOFFSETTO:+0100
TZNAME:CET
DTSTART:20281029T010000
END:STANDARD
END:VTIMEZONE
BEGIN:VEVENT
DTSTART;VALUE=DATE:20270126
DTEND;VALUE=DATE:20270129
DTSTAMP:20260419T182430
CREATED:20260412T165532Z
LAST-MODIFIED:20260412T171757Z
UID:8051-1800921600-1801180799@nexusavicultura.com
SUMMARY:IPPE – International Production & Processing Expo (Atlanta) 2027
DESCRIPTION:IPPE – International Production & Processing Expo (Atlanta) 2027\n\n\n\n\nThe International Production & Processing Expo is the world’s largest annual poultry and egg\, meat and animal food industry event of its kind. A wide range of domestic and international decision-makers attend this annual event to find solutions for their business\, network with industry colleagues and learn about the latest technological developments and issues facing the industry. \nThe 2026 IPPE already had 1\,200+ exhibitors that used more than 643\,000+ square feet of exhibit space. The 2027 IPPE will offer timely and important information and an efficient way for producers and processors to find solutions to enhance their operations. \nGeorgia World Congress Center in Atlanta\, USA\nJan. 26 – 28\, 2027. \nhttps://www.ippexpo.org/
URL:https://nexusavicultura.com/evento/ippe-international-production-processing-expo-atlanta-2027-2/
ATTACH;FMTTYPE=image/jpeg:https://nexusavicultura.com/wp-content/uploads/2025/09/IPPE-logo.jpg
END:VEVENT
END:VCALENDAR