BEGIN:VCALENDAR
VERSION:2.0
PRODID:-//NeXus Avicultura - ECPv6.15.20//NONSGML v1.0//EN
CALSCALE:GREGORIAN
METHOD:PUBLISH
X-ORIGINAL-URL:https://nexusavicultura.com
X-WR-CALDESC:Eventos para NeXus Avicultura
REFRESH-INTERVAL;VALUE=DURATION:PT1H
X-Robots-Tag:noindex
X-PUBLISHED-TTL:PT1H
BEGIN:VTIMEZONE
TZID:Europe/Madrid
BEGIN:DAYLIGHT
TZOFFSETFROM:+0100
TZOFFSETTO:+0200
TZNAME:CEST
DTSTART:20240331T010000
END:DAYLIGHT
BEGIN:STANDARD
TZOFFSETFROM:+0200
TZOFFSETTO:+0100
TZNAME:CET
DTSTART:20241027T010000
END:STANDARD
BEGIN:DAYLIGHT
TZOFFSETFROM:+0100
TZOFFSETTO:+0200
TZNAME:CEST
DTSTART:20250330T010000
END:DAYLIGHT
BEGIN:STANDARD
TZOFFSETFROM:+0200
TZOFFSETTO:+0100
TZNAME:CET
DTSTART:20251026T010000
END:STANDARD
BEGIN:DAYLIGHT
TZOFFSETFROM:+0100
TZOFFSETTO:+0200
TZNAME:CEST
DTSTART:20260329T010000
END:DAYLIGHT
BEGIN:STANDARD
TZOFFSETFROM:+0200
TZOFFSETTO:+0100
TZNAME:CET
DTSTART:20261025T010000
END:STANDARD
END:VTIMEZONE
BEGIN:VEVENT
DTSTART;VALUE=DATE:20250330
DTEND;VALUE=DATE:20250402
DTSTAMP:20260425T131501
CREATED:20241011T171429Z
LAST-MODIFIED:20241011T171429Z
UID:552-1743292800-1743551999@nexusavicultura.com
SUMMARY:IEC Global Leadership Conference Tenerife 2025
DESCRIPTION:La IEC  (International Egg Commision) dará la bienvenida a los delegados a la Conferencia Empresarial de la IEC en la isla de Tenerife\, España\, del 30 de marzo al 1 de abril de 2025\, para facilitar la colaboración de propietarios de empresas globales\, presidentes\, directores ejecutivos y tomadores de decisiones. \n¡Experimente la vibrante fusión de negocios y ocio en Tenerife! Enclavada entre los impresionantes paisajes de las Islas Canarias\, Tenerife ofrece un escenario perfecto para conocer la industria y compartir conocimientos. Con instalaciones para conferencias de primer nivel y un rico tapiz cultural para explorar\, Tenerife garantiza que su experiencia sea tan enriquecedora como productiva. ¡Únase a nosotros y descubra por qué es el escenario ideal para la Conferencia Empresarial IEC 2025!
URL:https://nexusavicultura.com/evento/iec-global-leadership-conference-tenerife-2025/
END:VEVENT
BEGIN:VEVENT
DTSTART;VALUE=DATE:20250408
DTEND;VALUE=DATE:20250411
DTSTAMP:20260425T131501
CREATED:20241011T190056Z
LAST-MODIFIED:20241011T190836Z
UID:573-1744070400-1744329599@nexusavicultura.com
SUMMARY:PEAK (Midwest Poultry Federation Annual Meeting) 2025
DESCRIPTION:
URL:https://nexusavicultura.com/evento/peak-midwest-poultry-federation-annual-meeting-2025/
END:VEVENT
BEGIN:VEVENT
DTSTART;VALUE=DATE:20250408
DTEND;VALUE=DATE:20250411
DTSTAMP:20260425T131501
CREATED:20260412T121826Z
LAST-MODIFIED:20260412T121826Z
UID:8037-1744070400-1744329599@nexusavicultura.com
SUMMARY:25º Simpósio Brasil Sul de Avicultura
DESCRIPTION:El 25º Simposio Brasil Sul de Avicultura y 16ª Brasil Sul Poultry Fair se desarrollará del 8 al 10 de Abril de 2025 en Chapecó\, Brasil.
URL:https://nexusavicultura.com/evento/25o-simposio-brasil-sul-de-avicultura/
ATTACH;FMTTYPE=image/jpeg:https://nexusavicultura.com/wp-content/uploads/2026/04/SBSA-logo.jpg
END:VEVENT
END:VCALENDAR