BEGIN:VCALENDAR
VERSION:2.0
PRODID:-//NeXus Avicultura - ECPv6.15.20//NONSGML v1.0//EN
CALSCALE:GREGORIAN
METHOD:PUBLISH
X-WR-CALNAME:NeXus Avicultura
X-ORIGINAL-URL:https://nexusavicultura.com
X-WR-CALDESC:Eventos para NeXus Avicultura
REFRESH-INTERVAL;VALUE=DURATION:PT1H
X-Robots-Tag:noindex
X-PUBLISHED-TTL:PT1H
BEGIN:VTIMEZONE
TZID:Europe/Madrid
BEGIN:DAYLIGHT
TZOFFSETFROM:+0100
TZOFFSETTO:+0200
TZNAME:CEST
DTSTART:20250330T010000
END:DAYLIGHT
BEGIN:STANDARD
TZOFFSETFROM:+0200
TZOFFSETTO:+0100
TZNAME:CET
DTSTART:20251026T010000
END:STANDARD
BEGIN:DAYLIGHT
TZOFFSETFROM:+0100
TZOFFSETTO:+0200
TZNAME:CEST
DTSTART:20260329T010000
END:DAYLIGHT
BEGIN:STANDARD
TZOFFSETFROM:+0200
TZOFFSETTO:+0100
TZNAME:CET
DTSTART:20261025T010000
END:STANDARD
BEGIN:DAYLIGHT
TZOFFSETFROM:+0100
TZOFFSETTO:+0200
TZNAME:CEST
DTSTART:20270328T010000
END:DAYLIGHT
BEGIN:STANDARD
TZOFFSETFROM:+0200
TZOFFSETTO:+0100
TZNAME:CET
DTSTART:20271031T010000
END:STANDARD
END:VTIMEZONE
BEGIN:VEVENT
DTSTART;VALUE=DATE:20260310
DTEND;VALUE=DATE:20260313
DTSTAMP:20260424T194408
CREATED:20260412T175254Z
LAST-MODIFIED:20260412T175254Z
UID:8072-1773100800-1773359999@nexusavicultura.com
SUMMARY:VIV HEALTH & NUTRITION ASIA 2026 (Bangkok\, Thailand)
DESCRIPTION:WHAT IS HEALTH & NUTRITION ASIA?\nHealth & Nutrition Asia in co-location with VICTAM Asia is a niche exhibition dedicated to the animal feed and health sector in Asia. The show is strategically located in Bangkok\, the gateway to South East Asian agrifood production. The three day exhibition and conference will host over 350 exhibitors\, showcasing the latest products and services that drive the sector to more sustainable methods of animal health solutions and feed production.
URL:https://nexusavicultura.com/evento/viv-health-nutrition-asia-2026-bangkok-thailand/
ATTACH;FMTTYPE=image/png:https://nexusavicultura.com/wp-content/uploads/2026/04/VIV-health-and-nutrition-asia-logo.png
END:VEVENT
BEGIN:VEVENT
DTSTART;VALUE=DATE:20260318
DTEND;VALUE=DATE:20260320
DTSTAMP:20260424T194408
CREATED:20250909T072822Z
LAST-MODIFIED:20250909T073156Z
UID:4956-1773792000-1773964799@nexusavicultura.com
SUMMARY:Journées de la Recherche Avicole et Palmipèdes à Foie Gras (16 ed.\, 2026) - France
DESCRIPTION:Dans un contexte particulièrement concurrentiel\, le défi de la recherche avicole française est de proposer des solutions qui permettent de préserver\, sur le territoire\, des filières de production et de transformation capables de répondre aux attentes multiples de la distribution\, de la restauration hors domicile et du citoyen. \nLes Journées de la Recherche Avicole et des Palmipèdes à Foie Gras constituent un lieu incontournable permettant aux chercheurs et professionnels de l’aviculture de se rencontrer et d’échanger sur leurs préoccupations et leurs derniers travaux. \nCette manifestation\, est organisée tous les deux ans par l’ITAVI\, INRAE\, l’ANSES et le CTCPA\, avec l’appui des branches françaises de la World’s Poultry Science Association (WPSA) et de la World Veterinary Poultry Association (WVPA)\, deux associations de dimension internationale en aviculture. \n— Confirmar fechas — \nhttps://www.youtube.com/channel/UCmSTKcaORIQLOsN-FhV8Oug
URL:https://nexusavicultura.com/evento/journees-de-la-recherche-avicole-et-palmipedes-a-foie-gras-16-ed-2026-france/
ATTACH;FMTTYPE=image/jpeg:https://nexusavicultura.com/wp-content/uploads/2025/09/JRA-logo.jpg
END:VEVENT
BEGIN:VEVENT
DTSTART;VALUE=DATE:20260323
DTEND;VALUE=DATE:20260327
DTSTAMP:20260424T194408
CREATED:20241011T223953Z
LAST-MODIFIED:20241011T224116Z
UID:616-1774224000-1774569599@nexusavicultura.com
SUMMARY:Alimentaria 2026
DESCRIPTION:
URL:https://nexusavicultura.com/evento/alimentaria-2026/
END:VEVENT
END:VCALENDAR